BEGIN:VCALENDAR
METHOD:PUBLISH
X-WR-TIMEZONE:America/Chicago
PRODID:-//Hold My Ticket.//HMT Web App//EN
CALSCALE:GREGORIAN
METHOD:PUBLISH
X-WR-CALNAME:Threadgill's 
X-WR-CALDESC:Upcoming events at Threadgill's 
BEGIN:VTIMEZONE
TZID:America/Chicago 
END:VTIMEZONE
BEGIN:VEVENT
SEQUENCE:2
TRANSP:OPAQUE
UID:7312b405024cc6c5bc05017223c21509
DTSTART:20200108T190000
DTSTAMP:20200108T150157Z
SUMMARY:Wonder What Wednesdays: Shawnee Kilgore and Pat Byrne
DESCRIPTION:Join Shawnee Kilgore during the Wonder What Wednesday series for a weekly song swap, featuring this week's special guest Pat Byrne. "Pat's voice strikes an emotional chord with his audience; ranging from seductive whisper one moment, to full-bodied rock 'n' roll growl the next." - Stuart Gray, Hot Press Magazine
CREATED:20200108T150157Z
URL;VALUE=URI:http://holdmyticket.com/event/354115 

DTEND:20200108T210000
END:VEVENT
END:VCALENDAR