BEGIN:VCALENDAR
METHOD:PUBLISH
X-WR-TIMEZONE:America/Chicago
PRODID:-//Hold My Ticket.//HMT Web App//EN
CALSCALE:GREGORIAN
METHOD:PUBLISH
X-WR-CALNAME:Threadgill's 
X-WR-CALDESC:Upcoming events at Threadgill's 
BEGIN:VTIMEZONE
TZID:America/Chicago 
END:VTIMEZONE
BEGIN:VEVENT
SEQUENCE:2
TRANSP:OPAQUE
UID:7981160a37f0d4eb7d3d48c91eae2af8
DTSTART:20200115T190000
DTSTAMP:20200115T150152Z
SUMMARY:Wonder What Wednesdays: Shawnee Kilgore and Vanessa Lively 
DESCRIPTION:Join Shawnee Kilgore during the Wonder What Wednesday series for a weekly song swap, featuring this week's special guest Vanessa Lively. Vanessa Lively's eclectic blend of folk music beautifully joins heartfelt lyrics &amp; soulful vocals. With a compelling mix of tempos and styles that embrace "hints of urban, world, Latin, funk and pop," Lively's songs fully capture her compassionate nature and love of community.
CREATED:20200115T150152Z
URL;VALUE=URI:http://holdmyticket.com/event/354116 

DTEND:20200115T210000
END:VEVENT
END:VCALENDAR