BEGIN:VCALENDAR
METHOD:PUBLISH
X-WR-TIMEZONE:America/Chicago
PRODID:-//Hold My Ticket.//HMT Web App//EN
CALSCALE:GREGORIAN
METHOD:PUBLISH
X-WR-CALNAME:Threadgill's 
X-WR-CALDESC:Upcoming events at Threadgill's 
BEGIN:VTIMEZONE
TZID:America/Chicago 
END:VTIMEZONE
BEGIN:VEVENT
SEQUENCE:2
TRANSP:OPAQUE
UID:6665f89f8df7533641e7b1596a63d5f0
DTSTART:20200122T190000
DTSTAMP:20200122T150147Z
SUMMARY:Wonder What Wednesdays: Shawnee Kilgore and Chris Taylor
DESCRIPTION:Join Shawnee Kilgore during the Wonder What Wednesday series for a weekly song swap, featuring this week's special guest Chris Taylor. 
CREATED:20200122T150147Z
URL;VALUE=URI:http://holdmyticket.com/event/354117 

DTEND:20200122T210000
END:VEVENT
END:VCALENDAR