BEGIN:VCALENDAR
METHOD:PUBLISH
X-WR-TIMEZONE:America/Chicago
PRODID:-//Hold My Ticket.//HMT Web App//EN
CALSCALE:GREGORIAN
METHOD:PUBLISH
X-WR-CALNAME:Threadgill's 
X-WR-CALDESC:Upcoming events at Threadgill's 
BEGIN:VTIMEZONE
TZID:America/Chicago 
END:VTIMEZONE
BEGIN:VEVENT
SEQUENCE:2
TRANSP:OPAQUE
UID:9efd64034c6431fae1a42394d9abf6b3
DTSTART:20200129T190000
DTSTAMP:20200129T150109Z
SUMMARY:Wonder What Wednesdays: Shawnee Kilgore and Bonnie Whitmore
DESCRIPTION:Join Shawnee Kilgore during the Wonder What Wednesday series for a weekly song swap, featuring this week's special guest Bonnie Whitmore. 
CREATED:20200129T150109Z
URL;VALUE=URI:http://holdmyticket.com/event/354118 

DTEND:20200129T210000
END:VEVENT
END:VCALENDAR