BEGIN:VCALENDAR
METHOD:PUBLISH
X-WR-TIMEZONE:America/Chicago
PRODID:-//Hold My Ticket.//HMT Web App//EN
CALSCALE:GREGORIAN
METHOD:PUBLISH
X-WR-CALNAME:Threadgill's 
X-WR-CALDESC:Upcoming events at Threadgill's 
BEGIN:VTIMEZONE
TZID:America/Chicago 
END:VTIMEZONE
BEGIN:VEVENT
SEQUENCE:2
TRANSP:OPAQUE
UID:a0484fab91b3065ad52cc88089585850
DTSTART:20200103T200000
DTSTAMP:20200103T160119Z
SUMMARY:Joanna Howerton and Michael Cross CD Release
DESCRIPTION:Joanna and Michael are a musical writing duo, with Michael on guitar and piano and Joanna on accordion and piano. Join them in celebrating the release of their new CD titled "A new love begins." $10 cover. 
CREATED:20200103T160119Z
URL;VALUE=URI:http://holdmyticket.com/event/354119 

DTEND:20200103T220000
END:VEVENT
END:VCALENDAR