BEGIN:VCALENDAR
METHOD:PUBLISH
X-WR-TIMEZONE:America/Chicago
PRODID:-//Hold My Ticket.//HMT Web App//EN
CALSCALE:GREGORIAN
METHOD:PUBLISH
X-WR-CALNAME:Threadgill's 
X-WR-CALDESC:Upcoming events at Threadgill's 
BEGIN:VTIMEZONE
TZID:America/Chicago 
END:VTIMEZONE
BEGIN:VEVENT
SEQUENCE:2
TRANSP:OPAQUE
UID:2ae5600ba1c8792d5c9563ca8d51a9f4
DTSTART:20200104T200000
DTSTAMP:20200104T160110Z
SUMMARY:Songwriters Series: Coby Wier
DESCRIPTION:Coby Wier joins us for the Songwriters Series in Threadgill's Listening Room. Music runs in Coby's family and you may recognize the music of his father, Rusty Wier. Don't miss this night of incredible songwriting and talent! $10 cover.
CREATED:20200104T160110Z
URL;VALUE=URI:http://holdmyticket.com/event/354120 

DTEND:20200104T220000
END:VEVENT
END:VCALENDAR