BEGIN:VCALENDAR
METHOD:PUBLISH
X-WR-TIMEZONE:America/Chicago
PRODID:-//Hold My Ticket.//HMT Web App//EN
CALSCALE:GREGORIAN
METHOD:PUBLISH
X-WR-CALNAME:Threadgill's 
X-WR-CALDESC:Upcoming events at Threadgill's 
BEGIN:VTIMEZONE
TZID:America/Chicago 
END:VTIMEZONE
BEGIN:VEVENT
SEQUENCE:2
TRANSP:OPAQUE
UID:baa8eae4f47bb5c95f0ce720c04a8bc2
DTSTART:20200111T200000
DTSTAMP:20200111T160126Z
SUMMARY:Songwriters Series: Van Wilks &amp; Josh Smith
DESCRIPTION:Van Wilks has long been lauded as one of the city's master guitar players. His talents as a guitarist and band leader have won him consistent critical praise and a string of honors that was capped when he was voted by Austin music fans into the Austin Chronicle's "Texas Music Hall of Fame" alongside the state's most legendary musical talents. He's joined by Josh Smith for our Songwriter Series, don't miss this show! $10 cover.
CREATED:20200111T160126Z
URL;VALUE=URI:http://holdmyticket.com/event/354123 

DTEND:20200111T220000
END:VEVENT
END:VCALENDAR