BEGIN:VCALENDAR
METHOD:PUBLISH
X-WR-TIMEZONE:America/Chicago
PRODID:-//Hold My Ticket.//HMT Web App//EN
CALSCALE:GREGORIAN
METHOD:PUBLISH
X-WR-CALNAME:Threadgill's 
X-WR-CALDESC:Upcoming events at Threadgill's 
BEGIN:VTIMEZONE
TZID:America/Chicago 
END:VTIMEZONE
BEGIN:VEVENT
SEQUENCE:2
TRANSP:OPAQUE
UID:48184c260441d73296e2a612b2a55449
DTSTART:20200124T200000
DTSTAMP:20200124T160112Z
SUMMARY: Songwriters Series: Wendy Colonna
DESCRIPTION:Wendy is a seasoned troubadour and a new mother who hails from the gulf coast of Louisiana and has called Central Texas home since 2000. $10 cover.
CREATED:20200124T160112Z
URL;VALUE=URI:http://holdmyticket.com/event/354124 

DTEND:20200124T220000
END:VEVENT
END:VCALENDAR