BEGIN:VCALENDAR
METHOD:PUBLISH
X-WR-TIMEZONE:America/Chicago
PRODID:-//Hold My Ticket.//HMT Web App//EN
CALSCALE:GREGORIAN
METHOD:PUBLISH
X-WR-CALNAME:Threadgill's 
X-WR-CALDESC:Upcoming events at Threadgill's 
BEGIN:VTIMEZONE
TZID:America/Chicago 
END:VTIMEZONE
BEGIN:VEVENT
SEQUENCE:2
TRANSP:OPAQUE
UID:f1cf056bd9146d18f0fc73eace702d68
DTSTART:20200112T150000
DTSTAMP:20200112T110122Z
SUMMARY:Freddie Steady Krc presents: TUCSON 
DESCRIPTION:Freddie Steady Krc presents: TUCSON, a Western folk-rock opera in verse and song in partnership with Austin Museum of Popular Culture. $15 advance, $20 day of show. 

Freddie Steady Krc has pillared Austin music through myriad stylistic evolutions over the past five decades. Among his prolific
contributions is the West Coast-style folk-rock outfit Shakin' Apostles, whose 1995 LP Tucson included a tragic short story by the Texas Music Hall of Famer about 19th-century star-crossed lovers Sonny and Kara Lee. Krc revives the tale as folk-rock horse opera in verse
and song, premiering with narration by John D. Garrison. - Doug Freeman (Austin Chronicle)
CREATED:20200112T110122Z
URL;VALUE=URI:http://holdmyticket.com/event/354204 

DTEND:20200112T180000
END:VEVENT
END:VCALENDAR