BEGIN:VCALENDAR
METHOD:PUBLISH
X-WR-TIMEZONE:America/Denver
PRODID:-//Hold My Ticket.//HMT Web App//EN
CALSCALE:GREGORIAN
METHOD:PUBLISH
X-WR-CALNAME:The Oriental Theater
X-WR-CALDESC:Upcoming events at The Oriental Theater
BEGIN:VTIMEZONE
TZID:America/Denver 
END:VTIMEZONE
BEGIN:VEVENT
SEQUENCE:2
TRANSP:OPAQUE
UID:bea2c162f69fb266481b5e7e968c1e4e
DTSTART:20200228T200000
DTSTAMP:20200228T160150Z
SUMMARY:Charlie Berens *****SOLD OUT*****
DESCRIPTION:
CREATED:20200228T160150Z
URL;VALUE=URI:http://holdmyticket.com/event/354238 

DTEND:20200228T220000
END:VEVENT
END:VCALENDAR