BEGIN:VCALENDAR
METHOD:PUBLISH
X-WR-TIMEZONE:America/Chicago
PRODID:-//Hold My Ticket.//HMT Web App//EN
CALSCALE:GREGORIAN
METHOD:PUBLISH
X-WR-CALNAME:Threadgill's 
X-WR-CALDESC:Upcoming events at Threadgill's 
BEGIN:VTIMEZONE
TZID:America/Chicago 
END:VTIMEZONE
BEGIN:VEVENT
SEQUENCE:2
TRANSP:OPAQUE
UID:3a3d6dee4621fed1e361b01c9faf5476
DTSTART:20191227T190000
DTSTAMP:20191227T150118Z
SUMMARY:Minor Keys
DESCRIPTION:The Minor Keys are Anna Zavelson and Joey Painter. Friends since kindergarten, the duo began performing together at age 9 and have grown and developed their talents. The have played across Austin from 6th Street bars and Lake venues to packed hotel ballrooms, including SXSW shows and HAAM Day. No cover, tips encouraged! 
CREATED:20191227T150118Z
URL;VALUE=URI:http://holdmyticket.com/event/354664 

DTEND:20191227T210000
END:VEVENT
END:VCALENDAR