BEGIN:VCALENDAR
METHOD:PUBLISH
X-WR-TIMEZONE:America/Los_Angeles
PRODID:-//Hold My Ticket.//HMT Web App//EN
CALSCALE:GREGORIAN
METHOD:PUBLISH
X-WR-CALNAME:Winstons
X-WR-CALDESC:Upcoming events at Winstons
BEGIN:VTIMEZONE
TZID:America/Los_Angeles 
END:VTIMEZONE
BEGIN:VEVENT
SEQUENCE:2
TRANSP:OPAQUE
UID:7686e8a94d48aeb4a0226faee382da3d
DTSTART:20200124T214500
DTSTAMP:20200124T210957Z
SUMMARY:E.N Young &amp; Imperial Sound  with Boostive 
DESCRIPTION:
CREATED:20200124T210957Z
URL;VALUE=URI:http://holdmyticket.com/event/355087 

DTEND:20200125T004500
END:VEVENT
END:VCALENDAR