BEGIN:VCALENDAR
METHOD:PUBLISH
X-WR-TIMEZONE:America/Chicago
PRODID:-//Hold My Ticket.//HMT Web App//EN
CALSCALE:GREGORIAN
METHOD:PUBLISH
X-WR-CALNAME:Devils Backbone
X-WR-CALDESC:Upcoming events at Devils Backbone
BEGIN:VTIMEZONE
TZID:America/Chicago 
END:VTIMEZONE
BEGIN:VEVENT
SEQUENCE:2
TRANSP:OPAQUE
UID:b208d67af83262ad5270f2d572b41e59
DTSTART:20200315T190000
DTSTAMP:20200315T140147Z
SUMMARY:Chuck Prophet &amp; The Mission Express
DESCRIPTION:When you dig in to the details that have shaped Prophet's career, he has written with a wide rage of artists from Dan Penn to Alejandro Escovedo, laid down tracks on sessions for everyone from Warren Zevon to Kelly Willis and taken the stage with Jim Dickinson, Lucinda Williams and Aimee Mann, to name a few. He's heard his own tunes performed by legends like Solomon Burke and Heart.   National television appearances include Austin City Limits in support of No Other Love, as well as Letterman and Carson Daly, supporting 2007's Soap &amp; Water. His music has increasingly been featured in film and television, most recently as the closing track to episode two of True Blood. In an alternate universe Chuck Prophet is playing the arenas. His anthemic songs, bravado and showmanship propelled him there. In our universe he plays The Brudenell Social Club every couple of years and builds Springsteen-length sets into acts of mesmerism. Chuck shapes the two hour show so that it builds to anthemic choruses and guitar solos toward the end before gentling down a little and sending us off into the night. 

Chuck is the epitome of Rock N Roll and we can't WAIT to have him March 15.  This show WILL sell out, so get your tickets now. Special Sunday Evening Early show 7-9P
CREATED:20200315T140147Z
URL;VALUE=URI:http://holdmyticket.com/event/355964 

DTEND:20200315T210000
END:VEVENT
END:VCALENDAR