BEGIN:VCALENDAR
METHOD:PUBLISH
X-WR-TIMEZONE:America/New_York
PRODID:-//Hold My Ticket.//HMT Web App//EN
CALSCALE:GREGORIAN
METHOD:PUBLISH
X-WR-CALNAME:Terra Fermata
X-WR-CALDESC:Upcoming events at Terra Fermata
BEGIN:VTIMEZONE
TZID:America/New_York 
END:VTIMEZONE
BEGIN:VEVENT
SEQUENCE:2
TRANSP:OPAQUE
UID:96ad4f53d8023dbba9de59c8ab074eb1
DTSTART:20200216T190000
DTSTAMP:20200216T150200Z
SUMMARY:SOLO REVOLUTION PARTY featuring THE FLINT BLADE TRIO
DESCRIPTION:ART - FOOD - FIRE - DANCE - FUN - ALL AGES - NO COVER SHARGE - MORE FEATURE ACTS TBA
CREATED:20200216T150200Z
URL;VALUE=URI:http://holdmyticket.com/event/356229 

DTEND:20200216T220000
END:VEVENT
END:VCALENDAR