BEGIN:VCALENDAR
METHOD:PUBLISH
X-WR-TIMEZONE:America/Chicago
PRODID:-//Hold My Ticket.//HMT Web App//EN
CALSCALE:GREGORIAN
METHOD:PUBLISH
X-WR-CALNAME:Threadgill's 
X-WR-CALDESC:Upcoming events at Threadgill's 
BEGIN:VTIMEZONE
TZID:America/Chicago 
END:VTIMEZONE
BEGIN:VEVENT
SEQUENCE:2
TRANSP:OPAQUE
UID:685e626d5f54e37af04b31342b242de6
DTSTART:20200201T200000
DTSTAMP:20200201T160112Z
SUMMARY:The Lost Austin Band
DESCRIPTION:The Progressive Country scene in the 1970's put Austin in the international music map when "Willie, Waylon and the boys " came to town. Now that same magic lives again in the Lost Austin Band.
CREATED:20200201T160112Z
URL;VALUE=URI:http://holdmyticket.com/event/356308 

DTEND:20200201T220000
END:VEVENT
END:VCALENDAR