BEGIN:VCALENDAR
METHOD:PUBLISH
X-WR-TIMEZONE:America/Chicago
PRODID:-//Hold My Ticket.//HMT Web App//EN
CALSCALE:GREGORIAN
METHOD:PUBLISH
X-WR-CALNAME:Threadgill's 
X-WR-CALDESC:Upcoming events at Threadgill's 
BEGIN:VTIMEZONE
TZID:America/Chicago 
END:VTIMEZONE
BEGIN:VEVENT
SEQUENCE:2
TRANSP:OPAQUE
UID:46c26f0f4a685f26d9bccda9c14b465b
DTSTART:20200207T200000
DTSTAMP:20200207T160205Z
SUMMARY:Austin Lounge Lizards
DESCRIPTION:The Austin Lounge Lizards are arguably the perfect pairing of their hometown's slogan, "Live Music Capital of the World," and its unofficial motto, "Keep Austin Weird."  Since 1980, the Austin Lounge Lizards have been spoofing subjects such as politics, religion, romance, and themselves.  The self-proclaimed "Most Laughable Band in Show Business" features pointed lyrics, precise harmonies, and instrumental expertise.

CREATED:20200207T160205Z
URL;VALUE=URI:http://holdmyticket.com/event/356309 

DTEND:20200207T220000
END:VEVENT
END:VCALENDAR