BEGIN:VCALENDAR
METHOD:PUBLISH
X-WR-TIMEZONE:America/Chicago
PRODID:-//Hold My Ticket.//HMT Web App//EN
CALSCALE:GREGORIAN
METHOD:PUBLISH
X-WR-CALNAME:Threadgill's 
X-WR-CALDESC:Upcoming events at Threadgill's 
BEGIN:VTIMEZONE
TZID:America/Chicago 
END:VTIMEZONE
BEGIN:VEVENT
SEQUENCE:2
TRANSP:OPAQUE
UID:baa492edc8595ef202f70d8ad9e56c0c
DTSTART:20200208T200000
DTSTAMP:20200208T160156Z
SUMMARY:Stephen Doster
DESCRIPTION:We welcome the return of Austin's Stephen Doster as he performs songs from his multi-decade career. Stephen will be featuring many new songs in this performance for an upcoming follow-up to his critically acclaimed records "Arizona" and "New Black Suit".

Peter Blackstock of the Austin American Statesman called Arizona an "exquisitely crafted classic" and named the record among his "Top Ten Of 2014." The Austin Chronicle's Jim Caliguiri echoed the praise, placing Arizona at the top of his 2014 poll, lauding it as a "masterpiece" with "one charmed melody after another." 

CREATED:20200208T160156Z
URL;VALUE=URI:http://holdmyticket.com/event/356310 

DTEND:20200208T220000
END:VEVENT
END:VCALENDAR