BEGIN:VCALENDAR
METHOD:PUBLISH
X-WR-TIMEZONE:America/Chicago
PRODID:-//Hold My Ticket.//HMT Web App//EN
CALSCALE:GREGORIAN
METHOD:PUBLISH
X-WR-CALNAME:Threadgill's 
X-WR-CALDESC:Upcoming events at Threadgill's 
BEGIN:VTIMEZONE
TZID:America/Chicago 
END:VTIMEZONE
BEGIN:VEVENT
SEQUENCE:2
TRANSP:OPAQUE
UID:6ca61ca79b9c69a56422d792728721d5
DTSTART:20200214T200000
DTSTAMP:20200214T160113Z
SUMMARY:Kathy Murray and the Kilowatts
DESCRIPTION:With their recent signing to Nola Blue Records for the release of "Premonition of Love", and the successful 2017 release of "Let's Do This Thing",
Kathy Murray and her band, the electrifying Kilowatts, reassert their place in the blues pantheon that helps Austin, TX keep its reputation as the Live Music Capital of the World.
CREATED:20200214T160113Z
URL;VALUE=URI:http://holdmyticket.com/event/356311 

DTEND:20200214T220000
END:VEVENT
END:VCALENDAR