BEGIN:VCALENDAR
METHOD:PUBLISH
X-WR-TIMEZONE:America/Chicago
PRODID:-//Hold My Ticket.//HMT Web App//EN
CALSCALE:GREGORIAN
METHOD:PUBLISH
X-WR-CALNAME:Threadgill's 
X-WR-CALDESC:Upcoming events at Threadgill's 
BEGIN:VTIMEZONE
TZID:America/Chicago 
END:VTIMEZONE
BEGIN:VEVENT
SEQUENCE:2
TRANSP:OPAQUE
UID:13b02619a26a2313ae0401e2d303a4fd
DTSTART:20200215T200000
DTSTAMP:20200215T160119Z
SUMMARY:Joe King Carrasco
DESCRIPTION:Known as the King of Tex-Mex rock and roll, Joe King Carrasco, creates a stylistic borderland of pop rock and Latin rhythms. His cross-cultural stew blends cumbias, vamp, salsa, surf, reggae, blues, and Latin-tinged polkas. When not touring, Joe King Carrasco can be found at his musical home in Puerto Vallarta, Nacho Daddy, a Mex-Tex restaurant and club with walls tapered with memories, such as posters and photographs of Joes' musical history and travels around the world. Holding court at Nacho Daddy gives Joe King a palace to rock his Tex-Mex and transport those who drink the magic flavored "margaritas" to a place where the "Party Weekend" goes on forever.

Joe King Carrasco, with over 24 albums to his name, now spends much of his spare time writing music and relentlessly searching for the perfect desolate beach to hang out with his dogs. He can often be found exploring the twisty back roads from Coahuila all the way to Chiapas, chasing down good inspiration for another Tex-Mex song. $10 pre-sale, $15 day of show. 
CREATED:20200215T160119Z
URL;VALUE=URI:http://holdmyticket.com/event/356312 

DTEND:20200215T220000
END:VEVENT
END:VCALENDAR