BEGIN:VCALENDAR
METHOD:PUBLISH
X-WR-TIMEZONE:America/Chicago
PRODID:-//Hold My Ticket.//HMT Web App//EN
CALSCALE:GREGORIAN
METHOD:PUBLISH
X-WR-CALNAME:Threadgill's 
X-WR-CALDESC:Upcoming events at Threadgill's 
BEGIN:VTIMEZONE
TZID:America/Chicago 
END:VTIMEZONE
BEGIN:VEVENT
SEQUENCE:2
TRANSP:OPAQUE
UID:f49c2da9b9f17a7891e76cd3bf0482ac
DTSTART:20200205T190000
DTSTAMP:20200205T150103Z
SUMMARY:Wonder What Wednesdays: Shawnee Kilgore and Jeff Plankenhorn 
DESCRIPTION:Join Shawnee Kilgore during the Wonder What Wednesday series for a weekly song swap, featuring this week's special guest Jeff Plankenhorn. A quick listen to the albums released by Jeff Plankenhorn will give you an idea of the extremely varied styles the man Emily Robison of The Dixie Chicks calls a "chameleon" of performing. A deeper listen will uncover the overwhelmingly deep love all types of music Jeff has incorporated in his own unique style. Plankenhorn, or "Plank" as he is known, has found a way to blend the soulful vocals of the church, Motown, and funk singers that dominated his speakers as a youth with the bluegrass he studied while living in Nashville and the lyrically driven feel of the songwriters he has performed with since moving to Austin into an intoxicating sound that spans them all.  
CREATED:20200205T150103Z
URL;VALUE=URI:http://holdmyticket.com/event/356316 

DTEND:20200205T210000
END:VEVENT
END:VCALENDAR