BEGIN:VCALENDAR
METHOD:PUBLISH
X-WR-TIMEZONE:America/Chicago
PRODID:-//Hold My Ticket.//HMT Web App//EN
CALSCALE:GREGORIAN
METHOD:PUBLISH
X-WR-CALNAME:Threadgill's 
X-WR-CALDESC:Upcoming events at Threadgill's 
BEGIN:VTIMEZONE
TZID:America/Chicago 
END:VTIMEZONE
BEGIN:VEVENT
SEQUENCE:2
TRANSP:OPAQUE
UID:9721d7e44dee22ac74bb006bb431e4c3
DTSTART:20200219T190000
DTSTAMP:20200219T150156Z
SUMMARY:Wonder What Wednesdays: Shawnee Kilgore and Ray Prim
DESCRIPTION:Join Shawnee Kilgore during the Wonder What Wednesday series for a weekly song swap, featuring this week's special guest Ray Prim. 
CREATED:20200219T150156Z
URL;VALUE=URI:http://holdmyticket.com/event/356317 

DTEND:20200219T210000
END:VEVENT
END:VCALENDAR