BEGIN:VCALENDAR
METHOD:PUBLISH
X-WR-TIMEZONE:America/Chicago
PRODID:-//Hold My Ticket.//HMT Web App//EN
CALSCALE:GREGORIAN
METHOD:PUBLISH
X-WR-CALNAME:Threadgill's 
X-WR-CALDESC:Upcoming events at Threadgill's 
BEGIN:VTIMEZONE
TZID:America/Chicago 
END:VTIMEZONE
BEGIN:VEVENT
SEQUENCE:2
TRANSP:OPAQUE
UID:9c530079f07afd1ae4bf633eb177277f
DTSTART:20200306T200000
DTSTAMP:20200306T160148Z
SUMMARY:The South Austin Moonlighters
DESCRIPTION:Success for this "True Americana" ensemble has been about embracing a supergroup ethos while shunning supergroup egos. At their best, the band represents not just what's right about the Austin TX music community but about live music as a whole. And they're only getting better.
CREATED:20200306T160148Z
URL;VALUE=URI:http://holdmyticket.com/event/356408 

DTEND:20200306T220000
END:VEVENT
END:VCALENDAR