BEGIN:VCALENDAR
METHOD:PUBLISH
X-WR-TIMEZONE:America/Chicago
PRODID:-//Hold My Ticket.//HMT Web App//EN
CALSCALE:GREGORIAN
METHOD:PUBLISH
X-WR-CALNAME:Threadgill's 
X-WR-CALDESC:Upcoming events at Threadgill's 
BEGIN:VTIMEZONE
TZID:America/Chicago 
END:VTIMEZONE
BEGIN:VEVENT
SEQUENCE:2
TRANSP:OPAQUE
UID:59c970d7c3be41bef9dacd8f3ab86f54
DTSTART:20200313T200000
DTSTAMP:20200313T150200Z
SUMMARY:Susan Gibson
DESCRIPTION:Susan Gibson is a CMA award-winning songwriter (the Dixie Chicks took the Gibson-penned "Wide Open Spaces" to the top for four weeks) and has been hitting the road consistently over the past 14 years, touring nationally in support of her own brand of Texas-Americana-folk music. Susan's career is full of highs, including her new release "The Hard Stuff". Come check out one of the best songwriters that we have.
CREATED:20200313T150200Z
URL;VALUE=URI:http://holdmyticket.com/event/356409 

DTEND:20200313T220000
END:VEVENT
END:VCALENDAR