BEGIN:VCALENDAR
METHOD:PUBLISH
X-WR-TIMEZONE:America/Denver
PRODID:-//Hold My Ticket.//HMT Web App//EN
CALSCALE:GREGORIAN
METHOD:PUBLISH
X-WR-CALNAME:The Oriental Theater
X-WR-CALDESC:Upcoming events at The Oriental Theater
BEGIN:VTIMEZONE
TZID:America/Denver 
END:VTIMEZONE
BEGIN:VEVENT
SEQUENCE:2
TRANSP:OPAQUE
UID:add131e568fc93954305fd68be4f2c00
DTSTART:20210511T200000
DTSTAMP:20210511T150123Z
SUMMARY:The Meteors
DESCRIPTION:
CREATED:20210511T150123Z
URL;VALUE=URI:http://holdmyticket.com/event/357072 

DTEND:20210511T230000
END:VEVENT
END:VCALENDAR