BEGIN:VCALENDAR
METHOD:PUBLISH
X-WR-TIMEZONE:America/New_York
PRODID:-//Hold My Ticket.//HMT Web App//EN
CALSCALE:GREGORIAN
METHOD:PUBLISH
X-WR-CALNAME:Thirsty Cowboy
X-WR-CALDESC:Upcoming events at Thirsty Cowboy
BEGIN:VTIMEZONE
TZID:America/New_York 
END:VTIMEZONE
BEGIN:VEVENT
SEQUENCE:2
TRANSP:OPAQUE
UID:c1a0bb6a89a4d3f114ad31319071efdc
DTSTART:20200314T213000
DTSTAMP:20200314T170110Z
SUMMARY:RTE. 212
DESCRIPTION:
CREATED:20200314T170110Z
URL;VALUE=URI:http://holdmyticket.com/event/357412 

DTEND:20200315T020000
END:VEVENT
END:VCALENDAR