BEGIN:VCALENDAR
METHOD:PUBLISH
X-WR-TIMEZONE:America/Denver
PRODID:-//Hold My Ticket.//HMT Web App//EN
CALSCALE:GREGORIAN
METHOD:PUBLISH
X-WR-CALNAME:National Hispanic Cultural Center - Bank of America Theatre
X-WR-CALDESC:Upcoming events at National Hispanic Cultural Center - Bank of America Theatre
BEGIN:VTIMEZONE
TZID:America/Denver 
END:VTIMEZONE
BEGIN:VEVENT
SEQUENCE:2
TRANSP:OPAQUE
UID:a73fae8650264828f91aa3aae58f973b
DTSTART:20200313T190000
DTSTAMP:20200313T140157Z
SUMMARY:Ndere Troupe - Postponed - 
DESCRIPTION:And Then...? looks at our endless quest for happiness. What makes us happy? At what point will humanity--from the individual, the family, the community, the tribe, the nation, the continent, and indeed the whole world say, "We did it. We have exploited and gathered enough to make us really happy and relaxed"? When will that be? What will it take?
CREATED:20200313T140157Z
URL;VALUE=URI:http://holdmyticket.com/event/357782 

DTEND:20200313T213000
END:VEVENT
END:VCALENDAR