BEGIN:VCALENDAR
METHOD:PUBLISH
X-WR-TIMEZONE:America/Chicago
PRODID:-//Hold My Ticket.//HMT Web App//EN
CALSCALE:GREGORIAN
METHOD:PUBLISH
X-WR-CALNAME:Threadgill's 
X-WR-CALDESC:Upcoming events at Threadgill's 
BEGIN:VTIMEZONE
TZID:America/Chicago 
END:VTIMEZONE
BEGIN:VEVENT
SEQUENCE:2
TRANSP:OPAQUE
UID:71c73024928dde2da7c992d2657bc61c
DTSTART:20200304T190000
DTSTAMP:20200304T150129Z
SUMMARY:Midweek Modern Troubadours featuring Jana Pochop and Libby Koch
DESCRIPTION:Join us for our new Wednesday night music series, Midweek Modern Troubadours, featuring Jana Pochop with special guest Libby Koch. 
CREATED:20200304T150129Z
URL;VALUE=URI:http://holdmyticket.com/event/357882 

DTEND:20200304T210000
END:VEVENT
END:VCALENDAR