BEGIN:VCALENDAR
METHOD:PUBLISH
X-WR-TIMEZONE:America/Denver
PRODID:-//Hold My Ticket.//HMT Web App//EN
CALSCALE:GREGORIAN
METHOD:PUBLISH
X-WR-CALNAME:The Roxy Theatre
X-WR-CALDESC:Upcoming events at The Roxy Theatre
BEGIN:VTIMEZONE
TZID:America/Denver 
END:VTIMEZONE
BEGIN:VEVENT
SEQUENCE:2
TRANSP:OPAQUE
UID:b72bc693bc1e21145e5f6c42cccce7eb
DTSTART:20200508T190000
DTSTAMP:20200508T140110Z
SUMMARY:Ouija Macc
DESCRIPTION:Catch The Ghetto Alchemy Tour 2 Live at The Roxy Theatre
CREATED:20200508T140110Z
URL;VALUE=URI:http://holdmyticket.com/event/358298 

DTEND:20200509T000000
END:VEVENT
END:VCALENDAR