BEGIN:VCALENDAR
METHOD:PUBLISH
X-WR-TIMEZONE:America/Denver
PRODID:-//Hold My Ticket.//HMT Web App//EN
CALSCALE:GREGORIAN
METHOD:PUBLISH
X-WR-CALNAME:ampconcerts.org
X-WR-CALDESC:Upcoming events at ampconcerts.org
BEGIN:VTIMEZONE
TZID:America/Denver 
END:VTIMEZONE
BEGIN:VEVENT
SEQUENCE:2
TRANSP:OPAQUE
UID:096a78ffa3395b61d76a0152712052fb
DTSTART:20200328T200000
DTSTAMP:20200328T150156Z
SUMMARY:Solos Tú y Yo
DESCRIPTION:Live from Casa Flamenco! Valeria Montes has been described as "mesmerizing" by the Detroit Free Press and "beauty in motion" by the Metro Times. She is known as La Chispa (the Spark) for her passionate and vibrant interpretation of Cante Flamenco (flamenco song) and for her complex rhythmic zapateado. Juan Francisco Gonzalez Caballero (Juani de la Isla) is a highly respected and world-renowned flamenco guitarist from the island of San Fernando near the port city of Cádiz, in southern Spain.
CREATED:20200328T150156Z
URL;VALUE=URI:http://holdmyticket.com/event/360269 

DTEND:20200328T220000
END:VEVENT
END:VCALENDAR