BEGIN:VCALENDAR
METHOD:PUBLISH
X-WR-TIMEZONE:America/Los_Angeles
PRODID:-//Hold My Ticket.//HMT Web App//EN
CALSCALE:GREGORIAN
METHOD:PUBLISH
X-WR-CALNAME:Big Cabo Fest
X-WR-CALDESC:Upcoming events at Big Cabo Fest
BEGIN:VTIMEZONE
TZID:America/Los_Angeles 
END:VTIMEZONE
BEGIN:VEVENT
SEQUENCE:2
TRANSP:OPAQUE
UID:903a925b9a394ca4c7bd0a482796a08c
DTSTART:20210627T090000
DTSTAMP:20211209T092142Z
SUMMARY:Big Cabo Fest 2022 Pre-Reservations
DESCRIPTION:
CREATED:20211209T092142Z
URL;VALUE=URI:http://holdmyticket.com/event/360671 

DTEND:20210703T234500
END:VEVENT
END:VCALENDAR