BEGIN:VCALENDAR
METHOD:PUBLISH
X-WR-TIMEZONE:Europe/London
PRODID:-//Hold My Ticket.//HMT Web App//EN
CALSCALE:GREGORIAN
METHOD:PUBLISH
X-WR-CALNAME:Entertainers Worldwide
X-WR-CALDESC:Upcoming events at Entertainers Worldwide
BEGIN:VTIMEZONE
TZID:Europe/London 
END:VTIMEZONE
BEGIN:VEVENT
SEQUENCE:2
TRANSP:OPAQUE
UID:600ea9a3d09fc1fff3e75026d8fc221f
DTSTART:20200529T100000
DTSTAMP:20200527T075606Z
SUMMARY:Entertainment Booking Made Easy
DESCRIPTION:Book Top-Rated Entertainment for your Event! Wedding Entertainment, Party &amp; Corporate Event Entertainment Hire inc. Bands, Musicians, DJs, Singers,
CREATED:20200527T075606Z
URL;VALUE=URI:http://holdmyticket.com/event/361094 

DTEND:20200529T120000
END:VEVENT
END:VCALENDAR