BEGIN:VCALENDAR
METHOD:PUBLISH
X-WR-TIMEZONE:America/Denver
PRODID:-//Hold My Ticket.//HMT Web App//EN
CALSCALE:GREGORIAN
METHOD:PUBLISH
X-WR-CALNAME:Quixotes True Blue
X-WR-CALDESC:Upcoming events at Quixotes True Blue
BEGIN:VTIMEZONE
TZID:America/Denver 
END:VTIMEZONE
BEGIN:VEVENT
SEQUENCE:2
TRANSP:OPAQUE
UID:1da61def875960b5a7d2c3ddb0eb9df0
DTSTART:20200805T160000
DTSTAMP:20200805T110155Z
SUMMARY:Widespread Wednesdays:  4:00 pm video screening
DESCRIPTION:
CREATED:20200805T110155Z
URL;VALUE=URI:http://holdmyticket.com/event/361438 

DTEND:20200805T190000
END:VEVENT
END:VCALENDAR