BEGIN:VCALENDAR
METHOD:PUBLISH
X-WR-TIMEZONE:America/Chicago
PRODID:-//Hold My Ticket.//HMT Web App//EN
CALSCALE:GREGORIAN
METHOD:PUBLISH
X-WR-CALNAME:ONE-2-ONE BAR
X-WR-CALDESC:Upcoming events at ONE-2-ONE BAR
BEGIN:VTIMEZONE
TZID:America/Chicago 
END:VTIMEZONE
BEGIN:VEVENT
SEQUENCE:2
TRANSP:OPAQUE
UID:71838618f09086aa0a69a0b9d9225287
DTSTART:20200625T190000
DTSTAMP:20200625T165235Z
SUMMARY:Legacy Live w/ Jackie Venson (Online Performance)
DESCRIPTION:Hosted by Legacy ATX Program Director, Chaka Mandla Mhambi Mpeanaji of RIDERS AGAINST the STORM (RAS)!

Please join us for an intimate online performance and conversation with one of Austin's finest, Jackie Venson!

Stream from Facebook and Youtube, donations encouraged!

Tune in and turn UP to the Livestream at: facebook.com/e4youth
CREATED:20200625T165235Z
URL;VALUE=URI:http://holdmyticket.com/event/362037 

DTEND:20200625T203000
END:VEVENT
END:VCALENDAR