BEGIN:VCALENDAR
METHOD:PUBLISH
X-WR-TIMEZONE:America/Denver
PRODID:-//Hold My Ticket.//HMT Web App//EN
CALSCALE:GREGORIAN
METHOD:PUBLISH
X-WR-CALNAME:The Oriental Theater
X-WR-CALDESC:Upcoming events at The Oriental Theater
BEGIN:VTIMEZONE
TZID:America/Denver 
END:VTIMEZONE
BEGIN:VEVENT
SEQUENCE:2
TRANSP:OPAQUE
UID:c2b40c670e1b345bfe2584cd577d444d
DTSTART:20200815T193000
DTSTAMP:20200815T150147Z
SUMMARY:The O's Safe Sound Series presents: Claire Voyant: Dominatricks (A Comedy Magic Show)
DESCRIPTION:
CREATED:20200815T150147Z
URL;VALUE=URI:http://holdmyticket.com/event/362126 

DTEND:20200815T203000
END:VEVENT
END:VCALENDAR