BEGIN:VCALENDAR
METHOD:PUBLISH
X-WR-TIMEZONE:America/Denver
PRODID:-//Hold My Ticket.//HMT Web App//EN
CALSCALE:GREGORIAN
METHOD:PUBLISH
X-WR-CALNAME:The Oriental Theater
X-WR-CALDESC:Upcoming events at The Oriental Theater
BEGIN:VTIMEZONE
TZID:America/Denver 
END:VTIMEZONE
BEGIN:VEVENT
SEQUENCE:2
TRANSP:OPAQUE
UID:d92e035837ca36dee216ba07c1594988
DTSTART:20200912T193000
DTSTAMP:20200912T150154Z
SUMMARY:The O's Safe Sound Series presents: Reno Divorce
DESCRIPTION:
CREATED:20200912T150154Z
URL;VALUE=URI:http://holdmyticket.com/event/362134 

DTEND:20200912T203000
END:VEVENT
END:VCALENDAR