BEGIN:VCALENDAR
METHOD:PUBLISH
X-WR-TIMEZONE:America/Denver
PRODID:-//Hold My Ticket.//HMT Web App//EN
CALSCALE:GREGORIAN
METHOD:PUBLISH
X-WR-CALNAME:The Oriental Theater
X-WR-CALDESC:Upcoming events at The Oriental Theater
BEGIN:VTIMEZONE
TZID:America/Denver 
END:VTIMEZONE
BEGIN:VEVENT
SEQUENCE:2
TRANSP:OPAQUE
UID:3baca6f6f172cc1b595b4aaf42f38525
DTSTART:20200905T211500
DTSTAMP:20200905T170119Z
SUMMARY:The O's Safe Sound Series presents: Charlie and the Shithead (SPELLS Acoustic) - 7 Inch Release Party!
DESCRIPTION:
CREATED:20200905T170119Z
URL;VALUE=URI:http://holdmyticket.com/event/362784 

DTEND:20200905T221500
END:VEVENT
END:VCALENDAR