BEGIN:VCALENDAR
METHOD:PUBLISH
X-WR-TIMEZONE:America/Denver
PRODID:-//Hold My Ticket.//HMT Web App//EN
CALSCALE:GREGORIAN
METHOD:PUBLISH
X-WR-CALNAME:The Oriental Theater
X-WR-CALDESC:Upcoming events at The Oriental Theater
BEGIN:VTIMEZONE
TZID:America/Denver 
END:VTIMEZONE
BEGIN:VEVENT
SEQUENCE:2
TRANSP:OPAQUE
UID:48eb5fbabae9b33181dbb0ec147979ae
DTSTART:20201009T203000
DTSTAMP:20201009T160137Z
SUMMARY:Offerings To Odin, Clockwork Echo + DJ Julian Black
DESCRIPTION:
CREATED:20201009T160137Z
URL;VALUE=URI:http://holdmyticket.com/event/363819 

DTEND:20201009T230000
END:VEVENT
END:VCALENDAR