BEGIN:VCALENDAR
METHOD:PUBLISH
X-WR-TIMEZONE:America/Denver
PRODID:-//Hold My Ticket.//HMT Web App//EN
CALSCALE:GREGORIAN
METHOD:PUBLISH
X-WR-CALNAME:The Oriental Theater
X-WR-CALDESC:Upcoming events at The Oriental Theater
BEGIN:VTIMEZONE
TZID:America/Denver 
END:VTIMEZONE
BEGIN:VEVENT
SEQUENCE:2
TRANSP:OPAQUE
UID:f621ddd41bef66896a0d1ccc4d70479c
DTSTART:20201010T193000
DTSTAMP:20201010T150158Z
SUMMARY:The O's Safe Sound Series presents: LIPTRUCE
DESCRIPTION:
CREATED:20201010T150158Z
URL;VALUE=URI:http://holdmyticket.com/event/364140 

DTEND:20201010T203000
END:VEVENT
END:VCALENDAR