BEGIN:VCALENDAR
METHOD:PUBLISH
X-WR-TIMEZONE:America/Denver
PRODID:-//Hold My Ticket.//HMT Web App//EN
CALSCALE:GREGORIAN
METHOD:PUBLISH
X-WR-CALNAME:The Oriental Theater
X-WR-CALDESC:Upcoming events at The Oriental Theater
BEGIN:VTIMEZONE
TZID:America/Denver 
END:VTIMEZONE
BEGIN:VEVENT
SEQUENCE:2
TRANSP:OPAQUE
UID:889d211af5d985483db619d3597858ac
DTSTART:20201011T193000
DTSTAMP:20201011T150142Z
SUMMARY:The O's Safe Sound Series presents: LVDY
DESCRIPTION:
CREATED:20201011T150142Z
URL;VALUE=URI:http://holdmyticket.com/event/364913 

DTEND:20201011T203000
END:VEVENT
END:VCALENDAR