BEGIN:VCALENDAR
METHOD:PUBLISH
X-WR-TIMEZONE:America/Denver
PRODID:-//Hold My Ticket.//HMT Web App//EN
CALSCALE:GREGORIAN
METHOD:PUBLISH
X-WR-CALNAME:Launchpad
X-WR-CALDESC:Upcoming events at Launchpad
BEGIN:VTIMEZONE
TZID:America/Denver 
END:VTIMEZONE
BEGIN:VEVENT
SEQUENCE:2
TRANSP:OPAQUE
UID:578e8ccc1d6640faba9fa9e38a2eb4ef
DTSTART:20211002T200000
DTSTAMP:20211002T225819Z
SUMMARY:Anti-Flag * Dog Party * Grumpster * Oxymorrons
DESCRIPTION:* Anti-Flag * Dog Party * Grumpster * Oxymorons *


Saturday, October 2
Doors 7:30 pm | Show 8pm
Launchpad 
ABQ NM
all ages
Advance tickets - $20 + service charge

CREATED:20211002T225819Z
URL;VALUE=URI:http://holdmyticket.com/event/365650 

DTEND:20211003T000000
END:VEVENT
END:VCALENDAR