BEGIN:VCALENDAR
METHOD:PUBLISH
X-WR-TIMEZONE:America/Denver
PRODID:-//Hold My Ticket.//HMT Web App//EN
CALSCALE:GREGORIAN
METHOD:PUBLISH
X-WR-CALNAME:Live Streaming Event
X-WR-CALDESC:Upcoming events at Live Streaming Event
BEGIN:VTIMEZONE
TZID:America/Denver 
END:VTIMEZONE
BEGIN:VEVENT
SEQUENCE:2
TRANSP:OPAQUE
UID:efaf2cb8d4c25fff8f298ec64d74b5d0
DTSTART:20201218T160000
DTSTAMP:20201218T120156Z
SUMMARY:All Time Low - Basement Noise (Livestream Concert Series)
DESCRIPTION:Streaming schedule: ALL STREAMS BEGIN AT 6PM ET
October 09, 2020 - Wake Up, Sunshine Full Album Show
October 23, 2020 - Rian's Choice Set
November 13, 2020 - Zack's Choice Set
December 04, 2020 - Alex's Choice Set
December 18, 2020 - Jack's Choice Set
CREATED:20201218T120156Z
URL;VALUE=URI:http://holdmyticket.com/event/365923 

DTEND:20201218T180000
END:VEVENT
END:VCALENDAR