BEGIN:VCALENDAR
METHOD:PUBLISH
X-WR-TIMEZONE:America/Denver
PRODID:-//Hold My Ticket.//HMT Web App//EN
CALSCALE:GREGORIAN
METHOD:PUBLISH
X-WR-CALNAME:ampconcerts.org
X-WR-CALDESC:Upcoming events at ampconcerts.org
BEGIN:VTIMEZONE
TZID:America/Denver 
END:VTIMEZONE
BEGIN:VEVENT
SEQUENCE:2
TRANSP:OPAQUE
UID:35988bf1cf3ef3974b2e5b81790b9eaf
DTSTART:20201203T180000
DTSTAMP:20201203T140114Z
SUMMARY:Lucinda Williams
DESCRIPTION:Scheduled as a six-episode series of mostly full-band, HD video performances in-studio, Lu's Jukebox will feature a themed set of songs by other artists curated by multi-Grammy award winner Lucinda Williams.  The fourth episode features "Funny How Time Slips Away: A Night of 60's Country Classics."
CREATED:20201203T140114Z
URL;VALUE=URI:http://holdmyticket.com/event/366495 

DTEND:20201205T180000
END:VEVENT
END:VCALENDAR