BEGIN:VCALENDAR
METHOD:PUBLISH
X-WR-TIMEZONE:America/New_York
PRODID:-//Hold My Ticket.//HMT Web App//EN
CALSCALE:GREGORIAN
METHOD:PUBLISH
X-WR-CALNAME:Terra Fermata
X-WR-CALDESC:Upcoming events at Terra Fermata
BEGIN:VTIMEZONE
TZID:America/New_York 
END:VTIMEZONE
BEGIN:VEVENT
SEQUENCE:2
TRANSP:OPAQUE
UID:da3dd3fa386a3b609fb6fa34435db938
DTSTART:20201108T190000
DTSTAMP:20201108T150153Z
SUMMARY:JOEL DASILVA
DESCRIPTION:
CREATED:20201108T150153Z
URL;VALUE=URI:http://holdmyticket.com/event/366996 

DTEND:20201108T220000
END:VEVENT
END:VCALENDAR