BEGIN:VCALENDAR
METHOD:PUBLISH
X-WR-TIMEZONE:America/Denver
PRODID:-//Hold My Ticket.//HMT Web App//EN
CALSCALE:GREGORIAN
METHOD:PUBLISH
X-WR-CALNAME:The Oriental Theater
X-WR-CALDESC:Upcoming events at The Oriental Theater
BEGIN:VTIMEZONE
TZID:America/Denver 
END:VTIMEZONE
BEGIN:VEVENT
SEQUENCE:2
TRANSP:OPAQUE
UID:cf155de99f6706f97ef304bb7fa9785a
DTSTART:20201103T190000
DTSTAMP:20201103T172349Z
SUMMARY:FLOBOTS ON ELECTION NIGHT 
DESCRIPTION:
CREATED:20201103T172349Z
URL;VALUE=URI:http://holdmyticket.com/event/367039 

DTEND:20201103T200000
END:VEVENT
END:VCALENDAR