BEGIN:VCALENDAR
METHOD:PUBLISH
X-WR-TIMEZONE:America/Denver
PRODID:-//Hold My Ticket.//HMT Web App//EN
CALSCALE:GREGORIAN
METHOD:PUBLISH
X-WR-CALNAME:Sunshine Theater
X-WR-CALDESC:Upcoming events at Sunshine Theater
BEGIN:VTIMEZONE
TZID:America/Denver 
END:VTIMEZONE
BEGIN:VEVENT
SEQUENCE:2
TRANSP:OPAQUE
UID:d7882d251e9c8f2380c16354283ce473
DTSTART:20211128T193000
DTSTAMP:20211128T160138Z
SUMMARY:Black Label Society 
DESCRIPTION:* Black Label Society * Obituary * Prong *
Doom Trooping Over North America

Sunday, November 28, 2021
Doors 6:30pm / Show 7:30pm
Sunshine Theater
ABQ NM
all ages
Advance tickets - $37 + service charge


CREATED:20211128T160138Z
URL;VALUE=URI:http://holdmyticket.com/event/367493 

DTEND:20211128T233000
END:VEVENT
END:VCALENDAR