BEGIN:VCALENDAR
METHOD:PUBLISH
X-WR-TIMEZONE:America/Chicago
PRODID:-//Hold My Ticket.//HMT Web App//EN
CALSCALE:GREGORIAN
METHOD:PUBLISH
X-WR-CALNAME:Luckenbach Texas
X-WR-CALDESC:Upcoming events at Luckenbach Texas
BEGIN:VTIMEZONE
TZID:America/Chicago 
END:VTIMEZONE
BEGIN:VEVENT
SEQUENCE:2
TRANSP:OPAQUE
UID:b5f0cdf9c64d469e8809c09d78dbdd68
DTSTART:20210305T200000
DTSTAMP:20210305T160725Z
SUMMARY:Kin Faux + David Lee
DESCRIPTION:
CREATED:20210305T160725Z
URL;VALUE=URI:http://holdmyticket.com/event/368249 

DTEND:20210305T223000
END:VEVENT
END:VCALENDAR