BEGIN:VCALENDAR
METHOD:PUBLISH
X-WR-TIMEZONE:America/Denver
PRODID:-//Hold My Ticket.//HMT Web App//EN
CALSCALE:GREGORIAN
METHOD:PUBLISH
X-WR-CALNAME:The Oriental Theater
X-WR-CALDESC:Upcoming events at The Oriental Theater
BEGIN:VTIMEZONE
TZID:America/Denver 
END:VTIMEZONE
BEGIN:VEVENT
SEQUENCE:2
TRANSP:OPAQUE
UID:e07014bd9d78fa09058bc9d3bd35bcab
DTSTART:20210226T190000
DTSTAMP:20210226T150116Z
SUMMARY:LA POMPE
DESCRIPTION:
CREATED:20210226T150116Z
URL;VALUE=URI:http://holdmyticket.com/event/369083 

DTEND:20210226T220000
END:VEVENT
END:VCALENDAR