BEGIN:VCALENDAR
METHOD:PUBLISH
X-WR-TIMEZONE:America/Denver
PRODID:-//Hold My Ticket.//HMT Web App//EN
CALSCALE:GREGORIAN
METHOD:PUBLISH
X-WR-CALNAME:Sunshine Theater
X-WR-CALDESC:Upcoming events at Sunshine Theater
BEGIN:VTIMEZONE
TZID:America/Denver 
END:VTIMEZONE
BEGIN:VEVENT
SEQUENCE:2
TRANSP:OPAQUE
UID:974cad4c709f25ceebaafa6d869962a2
DTSTART:20231016T200000
DTSTAMP:20231016T223443Z
SUMMARY:IGORRR * Melt-Banana * Otto Von Schirach
DESCRIPTION:* IGORRR * Melt-Banana * Otto Von Schirach *
Spirituality and Distortion North American Tour 2023

Monday, October 16, 2023
Doors 7pm | Show 8pm
Sunshine Theater
ABQ NM
all ages
Advance tickets - $20 + service charge
https://www.facebook.com/events/3320039491642822

Tickets from all previously scheduled/rescheduled dates will be honored!
CREATED:20231016T223443Z
URL;VALUE=URI:http://holdmyticket.com/event/369153 

DTEND:20231016T230000
END:VEVENT
END:VCALENDAR