BEGIN:VCALENDAR
METHOD:PUBLISH
X-WR-TIMEZONE:America/Denver
PRODID:-//Hold My Ticket.//HMT Web App//EN
CALSCALE:GREGORIAN
METHOD:PUBLISH
X-WR-CALNAME:The Oriental Theater
X-WR-CALDESC:Upcoming events at The Oriental Theater
BEGIN:VTIMEZONE
TZID:America/Denver 
END:VTIMEZONE
BEGIN:VEVENT
SEQUENCE:2
TRANSP:OPAQUE
UID:25f8ec7bbdb67b58011be06f64141551
DTSTART:20210515T193000
DTSTAMP:20210515T201512Z
SUMMARY:Maiden Denver - A Tribute to Iron Maiden
DESCRIPTION:
CREATED:20210515T201512Z
URL;VALUE=URI:http://holdmyticket.com/event/370292 

DTEND:20210515T223000
END:VEVENT
END:VCALENDAR