BEGIN:VCALENDAR
METHOD:PUBLISH
X-WR-TIMEZONE:America/Denver
PRODID:-//Hold My Ticket.//HMT Web App//EN
CALSCALE:GREGORIAN
METHOD:PUBLISH
X-WR-CALNAME:The Oriental Theater
X-WR-CALDESC:Upcoming events at The Oriental Theater
BEGIN:VTIMEZONE
TZID:America/Denver 
END:VTIMEZONE
BEGIN:VEVENT
SEQUENCE:2
TRANSP:OPAQUE
UID:db4742f325c30b480dffc7d9d099395a
DTSTART:20210528T193000
DTSTAMP:20210528T150134Z
SUMMARY:Gasoline Lollipops
DESCRIPTION:
CREATED:20210528T150134Z
URL;VALUE=URI:http://holdmyticket.com/event/370372 

DTEND:20210528T230000
END:VEVENT
END:VCALENDAR